{"text_format":"3","workbook":"xlsx","n_sheets":11,"sheets":["сентябрь ","октябрь","ноябрь","декабрь","январь","февраль","март","апрель","май","Часть3","Часть 4"],"read":"whole","date_system":"1900"}

{"sheet":"сентябрь ","index":0,"n_rows":41,"n_cols":41,"rows_kept":41,"merged":[[0,0,0,16],[0,17,0,40],[2,0,2,15],[3,0,5,0],[3,1,5,1],[3,2,3,12],[3,13,3,15],[3,16,5,16],[3,17,5,17],[3,18,5,18],[3,19,3,38],[3,39,5,39],[3,40,5,40],[4,2,5,2],[4,3,5,3],[4,4,5,4],[4,5,5,5],[4,6,5,6],[4,7,5,7],[4,8,5,8],[4,9,5,9],[4,10,5,10],[4,11,5,11],[4,12,5,12],[4,13,5,13],[4,14,5,14],[4,15,5,15],[4,19,5,19],[4,20,5,20],[4,21,5,21],[4,22,5,22],[4,23,5,23],[4,24,5,24],[4,25,5,25],[4,26,5,26],[4,27,5,27],[4,28,5,28],[4,29,4,38]]}
[1,{"$nulls":16},"Часть 2 Учет выдачи книг, брошюр, журналов за сентябрь 20__ г."]
[]
["число рабочих дней_______________"]
["числа месяца","читателей всего","в том числе учащихся классов",{"$nulls":10},"отдельные группы читателей",null,null,"число посещений","числа месяца","всего выдано","Распределение книг, брошюр и журналов по содержанию",{"$nulls":19},"электронные издания","Прочие"]
[null,null,"1 класс","2 класс","3 класс","4 класс","5 класс","6 класс","7 класс","8 класс","9 класс","10 класс","11 класс","учителя","вспомог.","прочие",{"$nulls":3},"общественно-политическая литература","естествознание, математика","техника","языкознание","литературоведение","искусство и спорт","художественная литература","справочная","методическая","учебная","на татарском языке"]
[{"$nulls":29},"общественно-политическая литература","естествознание, математика","техника","языкознание","литературоведение","искусство и спорт","художественная литература","справочная","методическая","учебная"]
[1,2,3,4,5,6,7,8,9,10,11,12,13,14,15,16,17,1,2,3,4,5,6,7,8,9,10,11,12,13,14,15,16,17,18,19,20,21,22,23,24]
["К началу месяца",{"$f":"SUM(C8:P8)","v":0},{"$nulls":15},"к началу месяца",{"$f":"SUM(T8:AO8)","v":0}]
[1,{"$f":"SUM(C9:P9)","v":7},{"$nulls":11},7,null,null,7,1,{"$f":"SUM(T9:AO9)","v":7},{"$nulls":9},7]
[2,11,null,5,{"$nulls":9},6,null,null,11,2,11,{"$nulls":6},5,null,null,6]
[3,12,null,null,8,{"$nulls":8},4,null,null,12,3,12,{"$nulls":6},8,null,null,4]
[4,9,null,5,{"$nulls":8},4,{"$nulls":3},9,4,9,{"$nulls":6},9]
[5,0,{"$nulls":15},5,0]
[6,15,{"$nulls":4},15,{"$nulls":9},17,6,15,{"$nulls":6},15]
[7,4,{"$nulls":10},4,{"$nulls":3},12,7,6,{"$nulls":6},6]
[8,12,{"$nulls":5},12,{"$nulls":8},23,8,16,2,{"$nulls":5},12,{"$nulls":14},2]
[9,8,{"$nulls":4},8,{"$nulls":9},28,9,12,1,{"$nulls":5},10,{"$nulls":9},1]
[10,7,{"$nulls":3},1,5,1,{"$nulls":8},21,10,13,2,{"$nulls":5},11]
[11,12,null,12,{"$nulls":12},28,11,28,12,{"$nulls":5},12,4]
[12,0,{"$nulls":15},12,0]
[13,3,{"$nulls":3},3,{"$nulls":10},18,13,9,1,{"$nulls":5},8]
[14,5,{"$nulls":3},4,1,{"$nulls":9},21,14,16,3,{"$nulls":5},7,{"$nulls":14},6]
[15,6,{"$nulls":3},6,{"$nulls":10},31,15,14,4,{"$nulls":5},9,1]
[16,5,{"$nulls":3},1,{"$nulls":7},4,null,null,21,16,12,{"$nulls":6},6,null,null,6]
[17,14,null,13,{"$nulls":10},1,null,32,17,33,8,{"$nulls":5},25]
[18,0,{"$nulls":14},18,18,18,{"$nulls":6},17,null,null,1]
[19,0,{"$nulls":15},19,0]
[20,23,null,11,5,2,3,{"$nulls":6},2,null,null,31,20,30,5,{"$nulls":5},22,1,null,2]
[21,22,null,null,22,{"$nulls":11},36,21,39,12,{"$nulls":5},22,{"$nulls":14},5]
[22,19,null,19,{"$nulls":12},39,22,29,8,{"$nulls":5},21]
[23,22,null,22,{"$nulls":12},42,23,42,{"$nulls":6},36,{"$nulls":14},6]
[24,28,null,27,1,{"$nulls":11},45,24,40,1,{"$nulls":5},39]
[25,0,{"$nulls":14},18,25,16,4,{"$nulls":5},12]
[26,0,{"$nulls":15},26,0]
[27,5,{"$nulls":11},5,null,null,21,27,28,{"$nulls":6},18,2,null,8]
[28,0,{"$nulls":14},20,28,22,3,{"$nulls":5},16,{"$nulls":14},3]
[29,3,null,null,1,{"$nulls":8},2,null,null,31,29,43,8,{"$nulls":5},24,2,null,4,{"$nulls":11},5]
[30,2,null,null,1,{"$nulls":8},1,null,null,21,30,21,2,{"$nulls":5},13,{"$nulls":14},6]
[null,0,{"$nulls":16},0]
["всего       за месяц",254,0,114,38,17,32,13,0,0,0,0,8,31,1,0,613,"всего за месяц",{"$f":"SUM(T40:AO40)","v":541},76,0,0,0,0,0,383,10,0,38,0,0,0,0,0,0,1,0,0,0,0,33]
["итого              с начала года",{"$f":"B40+B8","v":254},0,114,38,17,32,13,0,0,0,0,8,31,1,0,613,"итого с начала года",{"$f":"S40+S8","v":541},76,0,0,0,0,0,383,10,0,38,0,0,0,0,0,0,1,0,0,0,0,33]

{"sheet":"октябрь","index":1,"n_rows":41,"n_cols":41,"rows_kept":41,"merged":[[0,0,0,16],[0,17,0,40],[2,0,2,15],[3,0,5,0],[3,1,5,1],[3,2,3,12],[3,13,3,15],[3,16,5,16],[3,17,5,17],[3,18,5,18],[3,19,3,38],[3,39,5,39],[3,40,5,40],[4,2,5,2],[4,3,5,3],[4,4,5,4],[4,5,5,5],[4,6,5,6],[4,7,5,7],[4,8,5,8],[4,9,5,9],[4,10,5,10],[4,11,5,11],[4,12,5,12],[4,13,5,13],[4,14,5,14],[4,15,5,15],[4,19,5,19],[4,20,5,20],[4,21,5,21],[4,22,5,22],[4,23,5,23],[4,24,5,24],[4,25,5,25],[4,26,5,26],[4,27,5,27],[4,28,5,28],[4,29,4,38]]}
["Часть 1. Учет состава читателей и посещаемости за сентябрь месяц 200___ г.",{"$nulls":16},"Часть 2 Учет выдачи книг, брошюр, журналов за сентябрь 20__ г."]
[]
["число рабочих дней_______________"]
["числа месяца","читателей всего","в том числе учащихся классов",{"$nulls":10},"отдельные группы читателей",null,null,"число посещений","числа месяца","всего выдано","Распределение книг, брошюр и журналов по содержанию",{"$nulls":19},"электронные издания","Прочие"]
[null,null,"1 класс","2 класс","3 класс","4 класс","5 класс","6 класс","7 класс","8 класс","9 класс","10 класс","11 класс","учителя","вспомог.","прочие",{"$nulls":3},"общественно-политическая литература","естествознание, математика","техника","языкознание","литературоведение","искусство и спорт","художественная литература","справочная","методическая","учебная","на татарском языке"]
[{"$nulls":29},"общественно-политическая литература","естествознание, математика","техника","языкознание","литературоведение","искусство и спорт","художественная литература","справочная","методическая","учебная"]
[1,2,3,4,5,6,7,8,9,10,11,12,13,14,15,16,17,1,2,3,4,5,6,7,8,9,10,11,12,13,14,15,16,17,18,19,20,21,22,23,24]
["К началу месяца",{"$f":"'сентябрь '!B41","v":254},{"$f":"'сентябрь '!C41","v":0},114,38,17,32,13,{"$f":"'сентябрь '!I41","v":0},{"$f":"'сентябрь '!J41","v":0},{"$f":"'сентябрь '!K41","v":0},{"$f":"'сентябрь '!L41","v":0},8,31,1,{"$f":"'сентябрь '!P41","v":0},613,"к началу месяца",{"$f":"'сентябрь '!S41","v":541},76,{"$f":"'сентябрь '!U41","v":0},{"$f":"'сентябрь '!V41","v":0},{"$f":"'сентябрь '!W41","v":0},{"$f":"'сентябрь '!X41","v":0},{"$f":"'сентябрь '!Y41","v":0},383,10,{"$f":"'сентябрь '!AB41","v":0},38,{"$f":"'сентябрь '!AD41","v":0},{"$f":"'сентябрь '!AE41","v":0},{"$f":"'сентябрь '!AF41","v":0},{"$f":"'сентябрь '!AG41","v":0},{"$f":"'сентябрь '!AH41","v":0},{"$f":"'сентябрь '!AI41","v":0},1,{"$f":"'сентябрь '!AK41","v":0},{"$f":"'сентябрь '!AL41","v":0},{"$f":"'сентябрь '!AM41","v":0},{"$f":"'сентябрь '!AN41","v":0},33]
[1,{"$f":"SUM(C9:P9)","v":12},null,null,12,{"$nulls":11},36,1,{"$f":"SUM(T9:AO9)","v":38},6,null,4,{"$nulls":3},23,1,{"$nulls":13},4]
[2,0,{"$nulls":14},18,2,14,{"$nulls":6},13,null,null,1]
[3,0,{"$nulls":15},3,0]
[4,8,null,null,7,{"$nulls":8},1,null,null,36,4,29,4,{"$nulls":5},24,1]
[5,0,{"$nulls":14},31,5,28,{"$nulls":6},28]
[6,8,{"$nulls":4},6,{"$nulls":6},2,null,null,38,6,34,{"$nulls":6},32,null,null,2]
[7,0,{"$nulls":14},30,7,30,2,null,1,{"$nulls":3},26,1]
[8,7,{"$nulls":6},6,{"$nulls":4},1,null,null,39,8,36,{"$nulls":6},34,null,null,2]
[9,0,{"$nulls":14},18,9,13,{"$nulls":6},13]
[10,0,{"$nulls":15},10,0]
[11,0,{"$nulls":14},37,11,37,8,{"$nulls":5},29]
[12,11,{"$nulls":4},9,{"$nulls":6},1,1,null,41,12,35,2,{"$nulls":5},31,1,null,1]
[13,1,{"$nulls":11},1,null,null,31,13,35,6,{"$nulls":5},28,1]
[14,0,{"$nulls":14},36,14,25,{"$nulls":6},21,{"$nulls":14},4]
[15,1,{"$nulls":11},1,null,null,29,15,35,3,{"$nulls":5},32]
[16,0,{"$nulls":14},12,16,11,{"$nulls":6},11]
[17,0,{"$nulls":15},17,0]
[18,0,{"$nulls":14},37,18,44,6,null,1,{"$nulls":3},32,4,null,1]
[19,19,{"$nulls":4},18,{"$nulls":6},1,null,null,41,19,46,4,{"$nulls":5},36,1,{"$nulls":13},5]
[20,0,{"$nulls":14},27,20,19,3,null,1,{"$nulls":3},12,{"$nulls":14},3]
[21,0,{"$nulls":14},27,21,23,{"$nulls":6},19,{"$nulls":14},4]
[22,11,{"$nulls":5},11,{"$nulls":8},31,22,36,2,{"$nulls":5},34]
[23,0,{"$nulls":14},11,23,9,{"$nulls":6},9]
[24,0,{"$nulls":15},24,0]
[25,13,{"$nulls":8},13,{"$nulls":5},41,25,49,4,{"$nulls":5},36,2,null,2,{"$nulls":11},5]
[26,9,{"$nulls":8},9,{"$nulls":5},31,26,28,{"$nulls":6},26,{"$nulls":14},2]
[27,0,{"$nulls":14},38,27,36,1,{"$nulls":5},31,{"$nulls":14},4]
[28,0,{"$nulls":14},45,28,52,{"$nulls":6},52]
[29,0,{"$nulls":14},12,29,28,6,{"$nulls":5},19,{"$nulls":14},3]
[30,0,{"$nulls":15},30,0]
[31,0,{"$nulls":15},31,0]
["всего       за месяц",100,0,0,19,0,33,11,6,0,22,0,0,8,1,0,773,"всего за месяц",{"$f":"SUM(T40:AO40)","v":770},57,0,7,0,0,0,651,12,0,9,0,0,0,0,0,0,0,0,0,0,0,34]
["итого              с начала года",{"$f":"B40+B8","v":354},0,114,57,17,65,24,6,0,22,0,8,39,2,0,1386,"итого с начала года",{"$f":"S40+S8","v":1311},133,0,7,0,0,0,1034,22,0,47,0,0,0,0,0,0,1,0,0,0,0,67]

{"sheet":"ноябрь","index":2,"n_rows":41,"n_cols":41,"rows_kept":41,"merged":[[0,0,0,16],[0,17,0,40],[2,0,2,15],[3,0,5,0],[3,1,5,1],[3,2,3,12],[3,13,3,15],[3,16,5,16],[3,17,5,17],[3,18,5,18],[3,19,3,38],[3,39,5,39],[3,40,5,40],[4,2,5,2],[4,3,5,3],[4,4,5,4],[4,5,5,5],[4,6,5,6],[4,7,5,7],[4,8,5,8],[4,9,5,9],[4,10,5,10],[4,11,5,11],[4,12,5,12],[4,13,5,13],[4,14,5,14],[4,15,5,15],[4,19,5,19],[4,20,5,20],[4,21,5,21],[4,22,5,22],[4,23,5,23],[4,24,5,24],[4,25,5,25],[4,26,5,26],[4,27,5,27],[4,28,5,28],[4,29,4,38]]}
["Часть 1. Учет состава читателей и посещаемости за сентябрь месяц 200___ г.",{"$nulls":16},"Часть 2 Учет выдачи книг, брошюр, журналов за сентябрь 20__ г."]
[]
["число рабочих дней_______________"]
["числа месяца","читателей всего","в том числе учащихся классов",{"$nulls":10},"отдельные группы читателей",null,null,"число посещений","числа месяца","всего выдано","Распределение книг, брошюр и журналов по содержанию",{"$nulls":19},"электронные издания","Прочие"]
[null,null,"1 класс","2 класс","3 класс","4 класс","5 класс","6 класс","7 класс","8 класс","9 класс","10 класс","11 класс","учителя","вспомог.","прочие",{"$nulls":3},"общественно-политическая литература","естествознание, математика","техника","языкознание","литературоведение","искусство и спорт","художественная литература","справочная","методическая","учебная","на татарском языке"]
[{"$nulls":29},"общественно-политическая литература","естествознание, математика","техника","языкознание","литературоведение","искусство и спорт","художественная литература","справочная","методическая","учебная"]
[1,2,3,4,5,6,7,8,9,10,11,12,13,14,15,16,17,1,2,3,4,5,6,7,8,9,10,11,12,13,14,15,16,17,18,19,20,21,22,23,24]
["К началу месяца",{"$f":"октябрь!B41","v":354},{"$f":"октябрь!C41","v":0},{"$f":"октябрь!D41","v":114},{"$f":"октябрь!E41","v":57},{"$f":"октябрь!F41","v":17},{"$f":"октябрь!G41","v":65},{"$f":"октябрь!H41","v":24},{"$f":"октябрь!I41","v":6},{"$f":"октябрь!J41","v":0},{"$f":"октябрь!K41","v":22},{"$f":"октябрь!L41","v":0},{"$f":"октябрь!M41","v":8},{"$f":"октябрь!N41","v":39},{"$f":"октябрь!O41","v":2},{"$f":"октябрь!P41","v":0},{"$f":"октябрь!Q41","v":1386},"к началу месяца",{"$f":"октябрь!S41","v":1311},{"$f":"октябрь!T41","v":133},{"$f":"октябрь!U41","v":0},{"$f":"октябрь!V41","v":7},{"$f":"октябрь!W41","v":0},{"$f":"октябрь!X41","v":0},{"$f":"октябрь!Y41","v":0},{"$f":"октябрь!Z41","v":1034},{"$f":"октябрь!AA41","v":22},{"$f":"октябрь!AB41","v":0},{"$f":"октябрь!AC41","v":47},{"$f":"октябрь!AD41","v":0},{"$f":"октябрь!AE41","v":0},{"$f":"октябрь!AF41","v":0},{"$f":"октябрь!AG41","v":0},{"$f":"октябрь!AH41","v":0},{"$f":"октябрь!AI41","v":0},{"$f":"октябрь!AJ41","v":1},{"$f":"октябрь!AK41","v":0},{"$f":"октябрь!AL41","v":0},{"$f":"октябрь!AM41","v":0},{"$f":"октябрь!AN41","v":0},{"$f":"октябрь!AO41","v":67}]
[1,{"$f":"SUM(C9:P9)","v":0},{"$nulls":15},1,{"$f":"SUM(T9:AO9)","v":0}]
[2,0,{"$nulls":15},2,0]
[3,0,{"$nulls":15},3,0]
[4,0,{"$nulls":15},4,0]
[5,0,{"$nulls":14},18,5,15,3,{"$nulls":5},12]
[6,0,{"$nulls":15},6,0]
[7,0,{"$nulls":15},7,0]
[8,0,{"$nulls":14},27,8,28,2,{"$nulls":5},22,null,null,2,{"$nulls":11},2]
[9,13,{"$nulls":9},6,7,{"$nulls":3},36,9,38,4,{"$nulls":5},28,2,{"$nulls":13},4]
[10,12,{"$nulls":9},12,{"$nulls":4},42,10,48,4,null,2,{"$nulls":3},37,{"$nulls":9},2,{"$nulls":4},3]
[11,0,{"$nulls":14},21,11,30,{"$nulls":6},27,null,null,1,{"$nulls":11},2]
[12,0,{"$nulls":14},31,12,27,2,{"$nulls":5},21,{"$nulls":14},4]
[13,8,{"$nulls":8},8,{"$nulls":5},13,13,12,{"$nulls":6},12]
[14,0,{"$nulls":15},14,0]
[15,0,{"$nulls":14},32,15,29,2,{"$nulls":5},24,{"$nulls":14},3]
[16,8,{"$nulls":5},3,null,null,5,{"$nulls":5},41,16,39,1,{"$nulls":5},36,1,null,1]
[17,9,{"$nulls":5},3,null,null,6,{"$nulls":5},45,17,33,4,{"$nulls":5},24,1,{"$nulls":13},4]
[18,0,{"$nulls":14},21,18,16,{"$nulls":6},16]
[19,0,{"$nulls":14},32,19,20,4,{"$nulls":5},15,1]
[20,11,{"$nulls":10},11,{"$nulls":3},21,20,14,{"$nulls":6},14]
[21,0,{"$nulls":15},21,0]
[22,0,{"$nulls":14},32,22,29,2,{"$nulls":5},27]
[23,0,{"$nulls":14},14,23,25,8,{"$nulls":5},16,1]
[24,0,{"$nulls":14},39,24,24,{"$nulls":6},24]
[25,0,{"$nulls":14},27,25,22,4,{"$nulls":5},18]
[26,9,{"$nulls":7},9,{"$nulls":6},36,26,21,{"$nulls":6},21]
[27,0,{"$nulls":14},12,27,12,{"$nulls":6},12]
[28,0,{"$nulls":15},28,0]
[29,33,29,null,4,{"$nulls":11},48,29,41,6,{"$nulls":5},35]
[30,0,{"$nulls":14},27,30,13,1,{"$nulls":5},11,1]
[null,0,{"$nulls":16},0]
["всего       за месяц",103,29,0,4,0,0,6,0,9,19,18,18,0,0,0,615,"всего за месяц",{"$f":"SUM(T40:AO40)","v":536},47,0,2,0,0,0,452,7,0,4,0,0,0,0,0,0,2,0,0,0,0,22]
["итого              с начала года",{"$f":"B40+B8","v":457},29,114,61,17,65,30,6,9,41,18,26,39,2,0,2001,"итого с начала года",{"$f":"S40+S8","v":1847},180,0,9,0,0,0,1486,29,0,51,0,0,0,0,0,0,3,0,0,0,0,89]

{"sheet":"декабрь","index":3,"n_rows":41,"n_cols":41,"rows_kept":41,"merged":[[0,0,0,16],[0,17,0,40],[2,0,2,15],[3,0,5,0],[3,1,5,1],[3,2,3,12],[3,13,3,15],[3,16,5,16],[3,17,5,17],[3,18,5,18],[3,19,3,38],[3,39,5,39],[3,40,5,40],[4,2,5,2],[4,3,5,3],[4,4,5,4],[4,5,5,5],[4,6,5,6],[4,7,5,7],[4,8,5,8],[4,9,5,9],[4,10,5,10],[4,11,5,11],[4,12,5,12],[4,13,5,13],[4,14,5,14],[4,15,5,15],[4,19,5,19],[4,20,5,20],[4,21,5,21],[4,22,5,22],[4,23,5,23],[4,24,5,24],[4,25,5,25],[4,26,5,26],[4,27,5,27],[4,28,5,28],[4,29,4,38]]}
["Часть 1. Учет состава читателей и посещаемости за сентябрь месяц 200___ г.",{"$nulls":16},"Часть 2 Учет выдачи книг, брошюр, журналов за сентябрь 20__ г."]
[]
["число рабочих дней_______________"]
["числа месяца","читателей всего","в том числе учащихся классов",{"$nulls":10},"отдельные группы читателей",null,null,"число посещений","числа месяца","всего выдано","Распределение книг, брошюр и журналов по содержанию",{"$nulls":19},"электронные издания","Прочие"]
[null,null,"1 класс","2 класс","3 класс","4 класс","5 класс","6 класс","7 класс","8 класс","9 класс","10 класс","11 класс","учителя","вспомог.","прочие",{"$nulls":3},"общественно-политическая литература","естествознание, математика","техника","языкознание","литературоведение","искусство и спорт","художественная литература","справочная","методическая","учебная","на татарском языке"]
[{"$nulls":29},"общественно-политическая литература","естествознание, математика","техника","языкознание","литературоведение","искусство и спорт","художественная литература","справочная","методическая","учебная"]
[1,2,3,4,5,6,7,8,9,10,11,12,13,14,15,16,17,1,2,3,4,5,6,7,8,9,10,11,12,13,14,15,16,17,18,19,20,21,22,23,24]
["К началу месяца",{"$f":"ноябрь!B41","v":457},29,114,61,17,65,30,6,9,41,18,26,39,2,0,2001,"к началу месяца",{"$f":"ноябрь!S41","v":1847},{"$f":"ноябрь!T41","v":180},{"$f":"ноябрь!U41","v":0},{"$f":"ноябрь!V41","v":9},{"$f":"ноябрь!W41","v":0},{"$f":"ноябрь!X41","v":0},{"$f":"ноябрь!Y41","v":0},{"$f":"ноябрь!Z41","v":1486},{"$f":"ноябрь!AA41","v":29},{"$f":"ноябрь!AB41","v":0},{"$f":"ноябрь!AC41","v":51},{"$f":"ноябрь!AD41","v":0},{"$f":"ноябрь!AE41","v":0},{"$f":"ноябрь!AF41","v":0},{"$f":"ноябрь!AG41","v":0},{"$f":"ноябрь!AH41","v":0},{"$f":"ноябрь!AI41","v":0},{"$f":"ноябрь!AJ41","v":3},{"$f":"ноябрь!AK41","v":0},{"$f":"ноябрь!AL41","v":0},{"$f":"ноябрь!AM41","v":0},{"$f":"ноябрь!AN41","v":0},{"$f":"ноябрь!AO41","v":89}]
[1,{"$f":"SUM(C9:P9)","v":0},{"$nulls":14},31,1,{"$f":"SUM(T9:AO9)","v":16},2,{"$nulls":5},14]
[2,11,{"$nulls":3},11,{"$nulls":9}," ",39,2,26,{"$nulls":6},21,1,{"$nulls":13},4]
[3,8,{"$nulls":3},8,{"$nulls":10},27,3,24,2,{"$nulls":5},18,{"$nulls":9},2,{"$nulls":4},2]
[4,0,{"$nulls":14},21,4,21,{"$nulls":6},21]
[5,0,{"$nulls":15},5,0]
[6,0,{"$nulls":14},44,6,29,{"$nulls":6},27,{"$nulls":14},2]
[7,0,{"$nulls":14},21,7,23,{"$nulls":6},18,{"$nulls":14},5]
[8,0,{"$nulls":14},30,8,35,4,{"$nulls":5},25,1,{"$nulls":13},5]
[9,0,{"$nulls":14},37,9,31,2,{"$nulls":5},28,{"$nulls":14},1]
[10,31,31,{"$nulls":13},47,10,36,{"$nulls":6},36]
[11,0,{"$nulls":14},9,11,9,{"$nulls":6},9]
[12,0,{"$nulls":15},12,0]
[13,0,{"$nulls":14},37,13,32,4,{"$nulls":5},28]
[14,0,{"$nulls":14},41,14,38,{"$nulls":6},32,2,{"$nulls":8},1,{"$nulls":4},3]
[15,29,29,{"$nulls":13},43,15,38,4,{"$nulls":5},32,{"$nulls":14},2]
[16,0,{"$nulls":14},31,16,28,{"$nulls":6},24,{"$nulls":14},4]
[17,0,{"$nulls":14},20,17,11,1,{"$nulls":5},10]
[18,0,{"$nulls":14},8,18,6,{"$nulls":6},6]
[19,0,{"$nulls":15},19,0]
[20,2,{"$nulls":12},2,null,21,20,18,2,{"$nulls":5},16]
[21,1,{"$nulls":11},1,null,null,31,21,27,{"$nulls":6},27]
[22,0,{"$nulls":14},40,22,31,{"$nulls":6},31]
[23,1,{"$nulls":11},1,null,null,21,23,49,8,{"$nulls":5},41]
[24,11,null,null,4,7,{"$nulls":10},29,24,43,2,{"$nulls":5},41]
[25,0,{"$nulls":15},25,0]
[26,0,{"$nulls":15},26,0]
[27,0,{"$nulls":15},27,0]
[28,0,{"$nulls":15},28,0]
[29,0,{"$nulls":15},29,0]
[30,0,{"$nulls":15},30,0]
[31,0,{"$nulls":15},31,0]
["всего       за месяц",94,60,0,4,26,0,0,0,0,0,0,0,2,2,0,null,"всего за месяц",{"$f":"SUM(T40:AO40)","v":571},31,0,0,0,0,0,505,4,0,0,0,0,0,0,0,0,3,0,0,0,0,{"$f":"SUM(AO9:AO39)","v":28}]
["итого              с начала года",{"$f":"B40+B8","v":551},89,114,65,43,65,30,6,9,41,18,26,41,4,0,null,"итого с начала года",{"$f":"S40+S8","v":2418},211,0,9,0,0,0,1991,33,0,51,0,0,0,0,0,0,6,0,0,0,0,{"$f":"AO40+AO8","v":117}]

{"sheet":"январь","index":4,"n_rows":41,"n_cols":41,"rows_kept":41,"merged":[[0,0,0,16],[0,17,0,40],[2,0,2,15],[3,0,5,0],[3,1,5,1],[3,2,3,12],[3,13,3,15],[3,16,5,16],[3,17,5,17],[3,18,5,18],[3,19,3,38],[3,39,5,39],[3,40,5,40],[4,2,5,2],[4,3,5,3],[4,4,5,4],[4,5,5,5],[4,6,5,6],[4,7,5,7],[4,8,5,8],[4,9,5,9],[4,10,5,10],[4,11,5,11],[4,12,5,12],[4,13,5,13],[4,14,5,14],[4,15,5,15],[4,19,5,19],[4,20,5,20],[4,21,5,21],[4,22,5,22],[4,23,5,23],[4,24,5,24],[4,25,5,25],[4,26,5,26],[4,27,5,27],[4,28,5,28],[4,29,4,38]]}
["Часть 1. Учет состава читателей и посещаемости за январь  месяц 2022г.",{"$nulls":16},"Часть 2 Учет выдачи книг, брошюр, журналов за январь 2022 г."]
[]
["число рабочих дней_______________"]
["числа месяца","читателей всего","в том числе учащихся классов",{"$nulls":10},"отдельные группы читателей",null,null,"число посещений","числа месяца","всего выдано","Распределение книг, брошюр и журналов по содержанию",{"$nulls":19},"электронные издания","Прочие"]
[null,null,"1 класс","2 класс","3 класс","4 класс","5 класс","6 класс","7 класс","8 класс","9 класс","10 класс","11 класс","учителя","вспомог.","прочие",{"$nulls":3},"общественно-политическая литература","естествознание, математика","техника","языкознание","литературоведение","искусство и спорт","художественная литература","справочная","методическая","учебная","на татарском языке"]
[{"$nulls":29},"общественно-политическая литература","естествознание, математика","техника","языкознание","литературоведение","искусство и спорт","художественная литература","справочная","методическая","учебная"]
[1,2,3,4,5,6,7,8,9,10,11,12,13,14,15,16,17,1,2,3,4,5,6,7,8,9,10,11,12,13,14,15,16,17,18,19,20,21,22,23,24]
["К началу месяца",{"$f":"декабрь!B41","v":551},{"$f":"декабрь!C41","v":89},{"$f":"декабрь!D41","v":114},{"$f":"декабрь!E41","v":65},{"$f":"декабрь!F41","v":43},{"$f":"декабрь!G41","v":65},{"$f":"декабрь!H41","v":30},{"$f":"декабрь!I41","v":6},{"$f":"декабрь!J41","v":9},{"$f":"декабрь!K41","v":41},{"$f":"декабрь!L41","v":18},{"$f":"декабрь!M41","v":26},{"$f":"декабрь!N41","v":41},{"$f":"декабрь!O41","v":4},{"$f":"декабрь!P41","v":0},{"$f":"декабрь!Q41","v":0},"к началу месяца",{"$f":"декабрь!S41","v":2418},{"$f":"декабрь!T41","v":211},{"$f":"декабрь!U41","v":0},{"$f":"декабрь!V41","v":9},{"$f":"декабрь!W41","v":0},{"$f":"декабрь!X41","v":0},{"$f":"декабрь!Y41","v":0},{"$f":"декабрь!Z41","v":1991},{"$f":"декабрь!AA41","v":33},{"$f":"декабрь!AB41","v":0},{"$f":"декабрь!AC41","v":51},{"$f":"декабрь!AD41","v":0},{"$f":"декабрь!AE41","v":0},{"$f":"декабрь!AF41","v":0},{"$f":"декабрь!AG41","v":0},{"$f":"декабрь!AH41","v":0},{"$f":"декабрь!AI41","v":0},{"$f":"декабрь!AJ41","v":6},{"$f":"декабрь!AK41","v":0},{"$f":"декабрь!AL41","v":0},{"$f":"декабрь!AM41","v":0},{"$f":"декабрь!AN41","v":0},{"$f":"декабрь!AO41","v":117}]
[1,{"$f":"SUM(C9:P9)","v":0},{"$nulls":15},1,{"$f":"SUM(T9:AO9)","v":0}]
[2,0,{"$nulls":15},2,0]
[3,0,{"$nulls":15},3,0]
[4,0,{"$nulls":15},4,0]
[5,0,{"$nulls":15},5,0]
[6,0,{"$nulls":15},6,0]
[7,0,{"$nulls":15},7,0]
[8,0,{"$nulls":15},8,0]
[9,0,{"$nulls":15},9,0]
[10,0,{"$nulls":15},10,0]
[11,0,{"$nulls":15},11,0]
[12,0,{"$nulls":14},19,12,18,2,{"$nulls":5},14,{"$nulls":14},2]
[13,6,null,null,6,{"$nulls":11},21,13,19,2,{"$nulls":5},12,{"$nulls":9},1,{"$nulls":4},4]
[14,0,{"$nulls":14},181,1414,{"$nulls":7},16]
[15,8,{"$nulls":8},8,{"$nulls":5},12,15,8,{"$nulls":6},8]
[16,0,{"$nulls":15},16,0]
[17,5,{"$nulls":8},5,{"$nulls":5},22,17,22,{"$nulls":6},20,{"$nulls":14},2]
[18,4,{"$nulls":10},4,{"$nulls":3},32,18,29,2,{"$nulls":5},24,{"$nulls":14},3]
[19,7,{"$nulls":10},7,{"$nulls":3},34,19,29,1,{"$nulls":5},28]
[20,0,{"$nulls":14},37,20,31,{"$nulls":6},30,{"$nulls":9},1]
[21,6,null,null,5,null,1,{"$nulls":9},41,21,27,1,{"$nulls":5},23,{"$nulls":14},3]
[22,4,null,null,4,{"$nulls":11},28,22,14,2,{"$nulls":5},12]
[23,0,{"$nulls":15},23,0]
[24,0,{"$nulls":14},31,24,25,2,{"$nulls":5},21,{"$nulls":14},2]
[25,13,{"$nulls":5},13,{"$nulls":8},42,25,36,1,{"$nulls":5},31,{"$nulls":9},2,{"$nulls":4},2]
[26,4,{"$nulls":5},4,{"$nulls":8},48,26,40,1,{"$nulls":5},36,{"$nulls":14},3]
[27,6,{"$nulls":6},6,{"$nulls":7},52,27,45,1,{"$nulls":5},41,{"$nulls":14},3]
[28,0,{"$nulls":14},18,28,16,{"$nulls":6},16]
[29,0,{"$nulls":15},29,0]
[30,0,{"$nulls":15},30,0]
[31,0,{"$nulls":14},29,31,23,2,{"$nulls":5},18,{"$nulls":14},3]
["всего       за месяц",63,{"$f":"SUM(C9:C39)","v":0},0,15,0,1,17,6,0,13,0,11,0,0,0,647,"всего за месяц",{"$f":"SUM(T40:AO40)","v":398},{"$f":"SUM(T9:T39)","v":17},0,0,0,0,0,350,0,0,0,0,0,0,0,0,0,4,0,0,0,0,27]
["итого              с начала года",{"$f":"B40+B8","v":614},{"$f":"C40+C8","v":89},114,80,43,66,47,12,9,54,18,37,41,4,0,647,"итого с начала года",{"$f":"S40+S8","v":2816},{"$f":"T40+T8","v":228},0,9,0,0,0,2341,33,0,51,0,0,0,0,0,0,10,0,0,0,0,144]

{"sheet":"февраль","index":5,"n_rows":41,"n_cols":41,"rows_kept":41,"merged":[[0,0,0,16],[0,17,0,40],[2,0,2,15],[3,0,5,0],[3,1,5,1],[3,2,3,12],[3,13,3,15],[3,16,5,16],[3,17,5,17],[3,18,5,18],[3,19,3,38],[3,39,5,39],[3,40,5,40],[4,2,5,2],[4,3,5,3],[4,4,5,4],[4,5,5,5],[4,6,5,6],[4,7,5,7],[4,8,5,8],[4,9,5,9],[4,10,5,10],[4,11,5,11],[4,12,5,12],[4,13,5,13],[4,14,5,14],[4,15,5,15],[4,19,5,19],[4,20,5,20],[4,21,5,21],[4,22,5,22],[4,23,5,23],[4,24,5,24],[4,25,5,25],[4,26,5,26],[4,27,5,27],[4,28,5,28],[4,29,4,38]]}
["Часть 1. Учет состава читателей и посещаемости за сентябрь месяц 200___ г.",{"$nulls":16},"Часть 2 Учет выдачи книг, брошюр, журналов за сентябрь 20__ г."]
[]
["число рабочих дней_______________"]
["числа месяца","читателей всего","в том числе учащихся классов",{"$nulls":10},"отдельные группы читателей",null,null,"число посещений","числа месяца","всего выдано","Распределение книг, брошюр и журналов по содержанию",{"$nulls":19},"электронные издания","Прочие"]
[null,null,"1 класс","2 класс","3 класс","4 класс","5 класс","6 класс","7 класс","8 класс","9 класс","10 класс","11 класс","учителя","вспомог.","прочие",{"$nulls":3},"общественно-политическая литература","естествознание, математика","техника","языкознание","литературоведение","искусство и спорт","художественная литература","справочная","методическая","учебная","на татарском языке"]
[{"$nulls":29},"общественно-политическая литература","естествознание, математика","техника","языкознание","литературоведение","искусство и спорт","художественная литература","справочная","методическая","учебная"]
[1,2,3,4,5,6,7,8,9,10,11,12,13,14,15,16,17,1,2,3,4,5,6,7,8,9,10,11,12,13,14,15,16,17,18,19,20,21,22,23,24]
["К началу месяца",{"$f":"январь!B41","v":614},{"$f":"январь!C41","v":89},{"$f":"январь!D41","v":114},{"$f":"январь!E41","v":80},{"$f":"январь!F41","v":43},{"$f":"январь!G41","v":66},{"$f":"январь!H41","v":47},{"$f":"январь!I41","v":12},{"$f":"январь!J41","v":9},{"$f":"январь!K41","v":54},{"$f":"январь!L41","v":18},{"$f":"январь!M41","v":37},{"$f":"январь!N41","v":41},{"$f":"январь!O41","v":4},{"$f":"январь!P41","v":0},{"$f":"январь!Q41","v":647},"к началу месяца",{"$f":"январь!S41","v":2816},{"$f":"январь!T41","v":228},{"$f":"январь!U41","v":0},{"$f":"январь!V41","v":9},{"$f":"январь!W41","v":0},{"$f":"январь!X41","v":0},{"$f":"январь!Y41","v":0},{"$f":"январь!Z41","v":2341},{"$f":"январь!AA41","v":33},{"$f":"январь!AB41","v":0},{"$f":"январь!AC41","v":51},{"$f":"январь!AD41","v":0},{"$f":"январь!AE41","v":0},{"$f":"январь!AF41","v":0},{"$f":"январь!AG41","v":0},{"$f":"январь!AH41","v":0},{"$f":"январь!AI41","v":0},{"$f":"январь!AJ41","v":10},{"$f":"январь!AK41","v":0},{"$f":"январь!AL41","v":0},{"$f":"январь!AM41","v":0},{"$f":"январь!AN41","v":0},{"$f":"январь!AO41","v":144}]
[1,{"$f":"SUM(C9:P9)","v":0},{"$nulls":15},1,{"$f":"SUM(T9:AO9)","v":0}]
[2,0,{"$nulls":14},34,2,29,1,{"$nulls":5},28]
[3,3,{"$nulls":7},3,{"$nulls":6},29,3,24,{"$nulls":6},21,{"$nulls":9},1,{"$nulls":4},2]
[4,2,{"$nulls":7},2,{"$nulls":6},31,4,25,1,{"$nulls":5},24]
[5,0,{"$nulls":15},5,0]
[6,0,{"$nulls":15},6,0]
[7,0,{"$nulls":14},38,7,24,1,{"$nulls":5},19,1,null,1,{"$nulls":11},2]
[8,0,{"$nulls":14},28,8,24,2,null,1,{"$nulls":3},18,{"$nulls":14},3]
[9,0,{"$nulls":14},42,9,39,1,{"$nulls":5},35,{"$nulls":9},1,{"$nulls":4},2]
[10,0,{"$nulls":14},59,10,54,2,null,1,{"$nulls":3},46,{"$nulls":9},2,{"$nulls":4},3]
[11,1,{"$nulls":9},1,{"$nulls":4},41,11,30,{"$nulls":6},29,{"$nulls":14},1]
[12,0,{"$nulls":15},12,0]
[13,0,{"$nulls":15},13,0]
[14,1,{"$nulls":5},1,{"$nulls":8},39,14,33,{"$nulls":6},24,null,null,3,{"$nulls":11},6]
[15,1,null,null,1,{"$nulls":11},68,15,51,2,{"$nulls":5},35,null,null,2,{"$nulls":6},1,{"$nulls":4},11]
[16,1,{"$nulls":6},1,{"$nulls":7},31,16,23,{"$nulls":6},23]
[17,1,{"$nulls":6},1,{"$nulls":7},41,17,38,{"$nulls":6},32,{"$nulls":14},6]
[18,4,{"$nulls":3},1,{"$nulls":4},3,{"$nulls":5},45,18,39,1,{"$nulls":5},33,null,null,1,{"$nulls":11},4]
[19,1,{"$nulls":9},1,{"$nulls":4},18,19,10,{"$nulls":6},8,{"$nulls":14},2]
[20,0,{"$nulls":15},20,0]
[21,1,{"$nulls":5},1,{"$nulls":8},47,21,40,1,{"$nulls":5},33,null,null,2,{"$nulls":11},4]
[22,0,{"$nulls":14},27,22,22,1,{"$nulls":5},19,{"$nulls":14},2]
[23,0,{"$nulls":15},23,0]
[24,0,{"$nulls":15},24,0]
[25,0,{"$nulls":15},25,0]
[26,0,{"$nulls":15},26,0]
[27,0,{"$nulls":15},27,0]
[28,0,{"$nulls":15},28,0]
[null,0,{"$nulls":16},0]
[null,0,{"$nulls":16},0]
[null,0,{"$nulls":16},0]
["всего       за месяц",16,{"$f":"SUM(C9:C39)","v":0},0,1,1,0,2,2,5,3,2,0,0,0,0,618,"всего за месяц",{"$f":"SUM(T40:AO40)","v":505},{"$f":"SUM(T9:T39)","v":13},0,2,0,0,0,427,1,0,9,0,0,0,0,0,0,5,0,0,0,0,48]
["итого              с начала года",{"$f":"B40+B8","v":630},{"$f":"C40+C8","v":89},114,81,44,66,49,14,14,57,20,37,41,4,0,1265,"итого с начала года",{"$f":"S40+S8","v":3321},{"$f":"T40+T8","v":241},0,11,0,0,0,2768,34,0,60,0,0,0,0,0,0,15,0,0,0,0,192]

{"sheet":"март","index":6,"n_rows":41,"n_cols":41,"rows_kept":41,"merged":[[0,0,0,16],[0,17,0,40],[2,0,2,15],[3,0,5,0],[3,1,5,1],[3,2,3,12],[3,13,3,15],[3,16,5,16],[3,17,5,17],[3,18,5,18],[3,19,3,38],[3,39,5,39],[3,40,5,40],[4,2,5,2],[4,3,5,3],[4,4,5,4],[4,5,5,5],[4,6,5,6],[4,7,5,7],[4,8,5,8],[4,9,5,9],[4,10,5,10],[4,11,5,11],[4,12,5,12],[4,13,5,13],[4,14,5,14],[4,15,5,15],[4,19,5,19],[4,20,5,20],[4,21,5,21],[4,22,5,22],[4,23,5,23],[4,24,5,24],[4,25,5,25],[4,26,5,26],[4,27,5,27],[4,28,5,28],[4,29,4,38]]}
["Часть 1. Учет состава читателей и посещаемости за сентябрь месяц 200___ г.",{"$nulls":16},"Часть 2 Учет выдачи книг, брошюр, журналов за сентябрь 20__ г."]
[]
["число рабочих дней_______________"]
["числа месяца","читателей всего","в том числе учащихся классов",{"$nulls":10},"отдельные группы читателей",null,null,"число посещений","числа месяца","всего выдано","Распределение книг, брошюр и журналов по содержанию",{"$nulls":19},"электронные издания","Прочие"]
[null,null,"1 класс","2 класс","3 класс","4 класс","5 класс","6 класс","7 класс","8 класс","9 класс","10 класс","11 класс","учителя","вспомог.","прочие",{"$nulls":3},"общественно-политическая литература","естествознание, математика","техника","языкознание","литературоведение","искусство и спорт","художественная литература","справочная","методическая","учебная","на татарском языке"]
[{"$nulls":29},"общественно-политическая литература","естествознание, математика","техника","языкознание","литературоведение","искусство и спорт","художественная литература","справочная","методическая","учебная"]
[1,2,3,4,5,6,7,8,9,10,11,12,13,14,15,16,17,1,2,3,4,5,6,7,8,9,10,11,12,13,14,15,16,17,18,19,20,21,22,23,24]
["К началу месяца",{"$f":"февраль!B41","v":630},{"$f":"февраль!C41","v":89},{"$f":"февраль!D41","v":114},{"$f":"февраль!E41","v":81},{"$f":"февраль!F41","v":44},{"$f":"февраль!G41","v":66},{"$f":"февраль!H41","v":49},{"$f":"февраль!I41","v":14},{"$f":"февраль!J41","v":14},{"$f":"февраль!K41","v":57},{"$f":"февраль!L41","v":20},{"$f":"февраль!M41","v":37},{"$f":"февраль!N41","v":41},{"$f":"февраль!O41","v":4},{"$f":"февраль!P41","v":0},{"$f":"февраль!Q41","v":1265},"к началу месяца",{"$f":"февраль!S41","v":3321},{"$f":"февраль!T41","v":241},{"$f":"февраль!U41","v":0},{"$f":"февраль!V41","v":11},{"$f":"февраль!W41","v":0},{"$f":"февраль!X41","v":0},{"$f":"февраль!Y41","v":0},{"$f":"февраль!Z41","v":2768},{"$f":"февраль!AA41","v":34},{"$f":"февраль!AB41","v":0},{"$f":"февраль!AC41","v":60},{"$f":"февраль!AD41","v":0},{"$f":"февраль!AE41","v":0},{"$f":"февраль!AF41","v":0},{"$f":"февраль!AG41","v":0},{"$f":"февраль!AH41","v":0},{"$f":"февраль!AI41","v":0},{"$f":"февраль!AJ41","v":15},{"$f":"февраль!AK41","v":0},{"$f":"февраль!AL41","v":0},{"$f":"февраль!AM41","v":0},{"$f":"февраль!AN41","v":0},{"$f":"февраль!AO41","v":192}]
[1,{"$f":"SUM(C9:P9)","v":0},{"$nulls":15},1,{"$f":"SUM(T9:AO9)","v":0}]
[2,0,{"$nulls":15},2,0]
[3,0,{"$nulls":15},3,0]
[4,0,{"$nulls":15},4,0]
[5,0,{"$nulls":15},5,0]
[6,0,{"$nulls":15},6,0]
[7,0,{"$nulls":15},7,0]
[8,0,{"$nulls":15},8,0]
[9,0,{"$nulls":15},9,0]
[10,0,{"$nulls":15},10,0]
[11,0,{"$nulls":15},11,0]
[12,0,{"$nulls":15},12,0]
[13,0,{"$nulls":15},13,0]
[14,0,{"$nulls":15},14,0]
[15,0,{"$nulls":15},15,0]
[16,0,{"$nulls":15},16,0]
[17,0,{"$nulls":15},17,0]
[18,0,{"$nulls":15},18,0]
[19,0,{"$nulls":15},19,0]
[20,0,{"$nulls":15},20,0]
[21,0,{"$nulls":15},21,0]
[22,0,{"$nulls":15},22,0]
[23,0,{"$nulls":15},23,0]
[24,0,{"$nulls":15},24,0]
[25,0,{"$nulls":15},25,0]
[26,0,{"$nulls":15},26,0]
[27,0,{"$nulls":15},27,0]
[28,0,{"$nulls":15},28,0]
[29,0,{"$nulls":15},29,0]
[30,0,{"$nulls":15},30,0]
[31,0,{"$nulls":15},31,0]
["всего       за месяц",0,{"$f":"SUM(C9:C39)","v":0},0,0,0,0,0,0,0,0,0,0,0,0,0,0,"всего за месяц",{"$f":"SUM(T40:AO40)","v":0},{"$f":"SUM(T9:T39)","v":0},0,0,0,0,0,0,0,0,0,0,0,0,0,0,0,0,0,0,0,0,0]
["итого              с начала года",{"$f":"B40+B8","v":630},{"$f":"C40+C8","v":89},114,81,44,66,49,14,14,57,20,37,41,4,0,1265,"итого с начала года",{"$f":"S40+S8","v":3321},{"$f":"T40+T8","v":241},0,11,0,0,0,2768,34,0,60,0,0,0,0,0,0,15,0,0,0,0,192]

{"sheet":"апрель","index":7,"n_rows":41,"n_cols":41,"rows_kept":41,"merged":[[0,0,0,16],[0,17,0,40],[2,0,2,15],[3,0,5,0],[3,1,5,1],[3,2,3,12],[3,13,3,15],[3,16,5,16],[3,17,5,17],[3,18,5,18],[3,19,3,38],[3,39,5,39],[3,40,5,40],[4,2,5,2],[4,3,5,3],[4,4,5,4],[4,5,5,5],[4,6,5,6],[4,7,5,7],[4,8,5,8],[4,9,5,9],[4,10,5,10],[4,11,5,11],[4,12,5,12],[4,13,5,13],[4,14,5,14],[4,15,5,15],[4,19,5,19],[4,20,5,20],[4,21,5,21],[4,22,5,22],[4,23,5,23],[4,24,5,24],[4,25,5,25],[4,26,5,26],[4,27,5,27],[4,28,5,28],[4,29,4,38]]}
["Часть 1. Учет состава читателей и посещаемости за сентябрь месяц 200___ г.",{"$nulls":16},"Часть 2 Учет выдачи книг, брошюр, журналов за сентябрь 20__ г."]
[]
["число рабочих дней_______________"]
["числа месяца","читателей всего","в том числе учащихся классов",{"$nulls":10},"отдельные группы читателей",null,null,"число посещений","числа месяца","всего выдано","Распределение книг, брошюр и журналов по содержанию",{"$nulls":19},"электронные издания","Прочие"]
[null,null,"1 класс","2 класс","3 класс","4 класс","5 класс","6 класс","7 класс","8 класс","9 класс","10 класс","11 класс","учителя","вспомог.","прочие",{"$nulls":3},"общественно-политическая литература","естествознание, математика","техника","языкознание","литературоведение","искусство и спорт","художественная литература","справочная","методическая","учебная","на татарском языке"]
[{"$nulls":29},"общественно-политическая литература","естествознание, математика","техника","языкознание","литературоведение","искусство и спорт","художественная литература","справочная","методическая","учебная"]
[1,2,3,4,5,6,7,8,9,10,11,12,13,14,15,16,17,1,2,3,4,5,6,7,8,9,10,11,12,13,14,15,16,17,18,19,20,21,22,23,24]
["К началу месяца",{"$f":"март!B41","v":630},{"$f":"март!C41","v":89},{"$f":"март!D41","v":114},{"$f":"март!E41","v":81},{"$f":"март!F41","v":44},{"$f":"март!G41","v":66},{"$f":"март!H41","v":49},{"$f":"март!I41","v":14},{"$f":"март!J41","v":14},{"$f":"март!K41","v":57},{"$f":"март!L41","v":20},{"$f":"март!M41","v":37},{"$f":"март!N41","v":41},{"$f":"март!O41","v":4},{"$f":"март!P41","v":0},{"$f":"март!Q41","v":1265},"к началу месяца",{"$f":"март!S41","v":3321},{"$f":"март!T41","v":241},{"$f":"март!U41","v":0},{"$f":"март!V41","v":11},{"$f":"март!W41","v":0},{"$f":"март!X41","v":0},{"$f":"март!Y41","v":0},{"$f":"март!Z41","v":2768},{"$f":"март!AA41","v":34},{"$f":"март!AB41","v":0},{"$f":"март!AC41","v":60},{"$f":"март!AD41","v":0},{"$f":"март!AE41","v":0},{"$f":"март!AF41","v":0},{"$f":"март!AG41","v":0},{"$f":"март!AH41","v":0},{"$f":"март!AI41","v":0},{"$f":"март!AJ41","v":15},{"$f":"март!AK41","v":0},{"$f":"март!AL41","v":0},{"$f":"март!AM41","v":0},{"$f":"март!AN41","v":0},{"$f":"март!AO41","v":192}]
[1,{"$f":"SUM(C9:P9)","v":0},{"$nulls":15},1,{"$f":"SUM(T9:AO9)","v":0}]
[2,0,{"$nulls":15},2,0]
[3,0,{"$nulls":15},3,0]
[4,0,{"$nulls":15},4,0]
[5,0,{"$nulls":15},5,0]
[6,0,{"$nulls":15},6,0]
[7,0,{"$nulls":15},7,0]
[8,0,{"$nulls":15},8,0]
[9,0,{"$nulls":15},9,0]
[10,0,{"$nulls":15},10,0]
[11,0,{"$nulls":15},11,0]
[12,0,{"$nulls":15},12,0]
[13,0,{"$nulls":15},13,0]
[14,0,{"$nulls":15},14,0]
[15,0,{"$nulls":15},15,0]
[16,0,{"$nulls":15},16,0]
[17,0,{"$nulls":15},17,0]
[18,0,{"$nulls":15},18,0]
[19,0,{"$nulls":15},19,0]
[20,0,{"$nulls":15},20,0]
[21,0,{"$nulls":15},21,0]
[22,0,{"$nulls":15},22,0]
[23,0,{"$nulls":15},23,0]
[24,0,{"$nulls":15},24,0]
[25,0,{"$nulls":15},25,0]
[26,0,{"$nulls":15},26,0]
[27,0,{"$nulls":15},27,0]
[28,0,{"$nulls":15},28,0]
[29,0,{"$nulls":15},29,0]
[30,0,{"$nulls":15},30,0]
[null,0,{"$nulls":16},0]
["всего       за месяц",0,{"$f":"SUM(C9:C39)","v":0},0,0,0,0,0,0,0,0,0,0,0,0,0,0,"всего за месяц",{"$f":"SUM(T40:AO40)","v":0},{"$f":"SUM(T9:T39)","v":0},0,0,0,0,0,0,0,0,0,0,0,0,0,0,0,0,0,0,0,0,0]
["итого              с начала года",{"$f":"B40+B8","v":630},{"$f":"C40+C8","v":89},114,81,44,66,49,14,14,57,20,37,41,4,0,1265,"итого с начала года",{"$f":"S40+S8","v":3321},{"$f":"T40+T8","v":241},0,11,0,0,0,2768,34,0,60,0,0,0,0,0,0,15,0,0,0,0,192]

{"sheet":"май","index":8,"n_rows":41,"n_cols":41,"rows_kept":41,"merged":[[0,0,0,16],[0,17,0,40],[2,0,2,15],[3,0,5,0],[3,1,5,1],[3,2,3,12],[3,13,3,15],[3,16,5,16],[3,17,5,17],[3,18,5,18],[3,19,3,38],[3,39,5,39],[3,40,5,40],[4,2,5,2],[4,3,5,3],[4,4,5,4],[4,5,5,5],[4,6,5,6],[4,7,5,7],[4,8,5,8],[4,9,5,9],[4,10,5,10],[4,11,5,11],[4,12,5,12],[4,13,5,13],[4,14,5,14],[4,15,5,15],[4,19,5,19],[4,20,5,20],[4,21,5,21],[4,22,5,22],[4,23,5,23],[4,24,5,24],[4,25,5,25],[4,26,5,26],[4,27,5,27],[4,28,5,28],[4,29,4,38]]}
["Часть 1. Учет состава читателей и посещаемости за сентябрь месяц 200___ г.",{"$nulls":16},"Часть 2 Учет выдачи книг, брошюр, журналов за сентябрь 20__ г."]
[]
["число рабочих дней_______________"]
["числа месяца","читателей всего","в том числе учащихся классов",{"$nulls":10},"отдельные группы читателей",null,null,"число посещений","числа месяца","всего выдано","Распределение книг, брошюр и журналов по содержанию",{"$nulls":19},"электронные издания","Прочие"]
[null,null,"1 класс","2 класс","3 класс","4 класс","5 класс","6 класс","7 класс","8 класс","9 класс","10 класс","11 класс","учителя","вспомог.","прочие",{"$nulls":3},"общественно-политическая литература","естествознание, математика","техника","языкознание","литературоведение","искусство и спорт","художественная литература","справочная","методическая","учебная","на татарском языке"]
[{"$nulls":29},"общественно-политическая литература","естествознание, математика","техника","языкознание","литературоведение","искусство и спорт","художественная литература","справочная","методическая","учебная"]
[1,2,3,4,5,6,7,8,9,10,11,12,13,14,15,16,17,1,2,3,4,5,6,7,8,9,10,11,12,13,14,15,16,17,18,19,20,21,22,23,24]
["К началу месяца",{"$f":"апрель!B41","v":630},{"$f":"апрель!C41","v":89},{"$f":"апрель!D41","v":114},{"$f":"апрель!E41","v":81},{"$f":"апрель!F41","v":44},{"$f":"апрель!G41","v":66},{"$f":"апрель!H41","v":49},{"$f":"апрель!I41","v":14},{"$f":"апрель!J41","v":14},{"$f":"апрель!K41","v":57},{"$f":"апрель!L41","v":20},{"$f":"апрель!M41","v":37},{"$f":"апрель!N41","v":41},{"$f":"апрель!O41","v":4},{"$f":"апрель!P41","v":0},{"$f":"апрель!Q41","v":1265},"к началу месяца",{"$f":"апрель!S41","v":3321},{"$f":"апрель!T41","v":241},{"$f":"апрель!U41","v":0},{"$f":"апрель!V41","v":11},{"$f":"апрель!W41","v":0},{"$f":"апрель!X41","v":0},{"$f":"апрель!Y41","v":0},{"$f":"апрель!Z41","v":2768},{"$f":"апрель!AA41","v":34},{"$f":"апрель!AB41","v":0},{"$f":"апрель!AC41","v":60},{"$f":"апрель!AD41","v":0},{"$f":"апрель!AE41","v":0},{"$f":"апрель!AF41","v":0},{"$f":"апрель!AG41","v":0},{"$f":"апрель!AH41","v":0},{"$f":"апрель!AI41","v":0},{"$f":"апрель!AJ41","v":15},{"$f":"апрель!AK41","v":0},{"$f":"апрель!AL41","v":0},{"$f":"апрель!AM41","v":0},{"$f":"апрель!AN41","v":0},{"$f":"апрель!AO41","v":192}]
[1,{"$f":"SUM(C9:P9)","v":0},{"$nulls":15},1,{"$f":"SUM(T9:AO9)","v":0}]
[2,0,{"$nulls":15},2,0]
[3,0,{"$nulls":15},3,0]
[4,0,{"$nulls":15},4,0]
[5,0,{"$nulls":15},5,0]
[6,0,{"$nulls":15},6,0]
[7,0,{"$nulls":15},7,0]
[8,0,{"$nulls":15},8,0]
[9,0,{"$nulls":15},9,0]
[10,0,{"$nulls":15},10,0]
[11,0,{"$nulls":15},11,0]
[12,0,{"$nulls":15},12,0]
[13,0,{"$nulls":15},13,0]
[14,0,{"$nulls":15},14,0]
[15,0,{"$nulls":15},15,0]
[16,0,{"$nulls":15},16,0]
[17,0,{"$nulls":15},17,0]
[18,0,{"$nulls":15},18,0]
[19,0,{"$nulls":15},19,0]
[20,0,{"$nulls":15},20,0]
[21,0,{"$nulls":15},21,0]
[22,0,{"$nulls":15},22,0]
[23,0,{"$nulls":15},23,0]
[24,0,{"$nulls":15},24,0]
[25,0,{"$nulls":15},25,0]
[26,0,{"$nulls":15},26,0]
[27,0,{"$nulls":15},27,0]
[28,0,{"$nulls":15},28,0]
[29,0,{"$nulls":15},29,0]
[30,0,{"$nulls":15},30,0]
[31,0,{"$nulls":15},31,0]
["всего       за месяц",0,{"$f":"SUM(C9:C39)","v":0},0,0,0,0,0,0,0,0,0,0,0,0,0,0,"всего за месяц",{"$f":"SUM(T40:AO40)","v":0},{"$f":"SUM(T9:T39)","v":0},0,0,0,0,0,0,0,0,0,0,0,0,0,0,0,0,0,0,0,0,0]
["итого              с начала года",{"$f":"B40+B8","v":630},{"$f":"C40+C8","v":89},114,81,44,66,49,14,14,57,20,37,41,4,0,1265,"итого с начала года",{"$f":"S40+S8","v":3321},{"$f":"T40+T8","v":241},0,11,0,0,0,2768,34,0,60,0,0,0,0,0,0,15,0,0,0,0,192]

{"sheet":"Часть3","index":9,"n_rows":4,"n_cols":4,"rows_kept":4,"merged":[[0,0,0,3],[1,0,1,3],[2,0,2,3]]}
["Часть 3. Учет массовой работы (громкие чтения, библиографические обзоры,"]
["литературные и тематические вечера, читательские конференции, книжные выставки и т.д)"]
[]
["Дата проведения","наименование мероприятия и тема","количество обслуж-х","Кто проводил мероприятие и где"]

{"sheet":"Часть 4","index":10,"n_rows":5,"n_cols":8,"rows_kept":5,"merged":[[0,0,0,7],[2,0,3,0],[2,1,3,1],[2,2,2,7]]}
["Часть 4. Учет справочно-библиографической работы"]
[]
["Число и месяц","всего подано справок","В том числе"]
[null,null,"общественно- политическим","естественно- научным","производственно- техническим","справочным","литературно- критическим","прочим"]
[1,2,3,4,5,6,7,8]